BEGIN:VCALENDAR
VERSION:2.0
PRODID:SchoolNow
CALSCALE:GREGORIAN
BEGIN:VEVENT
UID:8f08e0b4-d9e9-11ef-817f-0a58a9feac02
DTSTAMP:20250124T002422Z
SUMMARY:Soccer (Girls V) @ William Henry Harrison High School - West Lafaye
 tte
LOCATION:William Henry Harrison High School - West Lafayette
URL;VALUE=URI:https://www.tricreek.k12.in.us/lhs/calendar/7361034/soccer-gi
 rls-v-william-henry-harrison-high-school-west-lafayette
DTSTART:20250922T233007Z
DTEND:20250923T013007Z
END:VEVENT
END:VCALENDAR
