BEGIN:VCALENDAR
VERSION:2.0
PRODID:SchoolNow
CALSCALE:GREGORIAN
BEGIN:VEVENT
UID:8f08e186-d9e9-11ef-8988-0a58a9feac02
DTSTAMP:20250124T002422Z
SUMMARY:Soccer (Girls V) @ Boone Grove High School
LOCATION:Boone Grove High School
URL;VALUE=URI:https://www.tricreek.k12.in.us/lhs/calendar/7361035/soccer-gi
 rls-v-boone-grove-high-school
DTSTART:20250918T230000Z
DTEND:20250919T010000Z
END:VEVENT
END:VCALENDAR
