BEGIN:VCALENDAR
VERSION:2.0
PRODID:SchoolNow
CALSCALE:GREGORIAN
BEGIN:VEVENT
UID:8f08e258-d9e9-11ef-a777-0a58a9feac02
DTSTAMP:20250124T002422Z
SUMMARY:Soccer (Girls V) @ Griffith Senior High School
LOCATION:Griffith Senior High School
URL;VALUE=URI:https://www.tricreek.k12.in.us/lhs/calendar/7361036/soccer-gi
 rls-v-griffith-senior-high-school
DTSTART:20241001T220000Z
DTEND:20241002T000000Z
END:VEVENT
END:VCALENDAR
