BEGIN:VCALENDAR
VERSION:2.0
PRODID:SchoolNow
CALSCALE:GREGORIAN
BEGIN:VEVENT
UID:8f08e41a-d9e9-11ef-a638-0a58a9feac02
DTSTAMP:20250124T002422Z
SUMMARY:Soccer (Girls V) @ IHSAA Sectional
LOCATION:Kankakee Valley High School
URL;VALUE=URI:https://www.tricreek.k12.in.us/lhs/calendar/7361038/soccer-gi
 rls-v-ihsaa-sectional
DTSTART:20241011T000000Z
DTEND:20241011T020000Z
END:VEVENT
END:VCALENDAR
