BEGIN:VCALENDAR
VERSION:2.0
PRODID:SchoolNow
CALSCALE:GREGORIAN
BEGIN:VEVENT
UID:8f08e870-d9e9-11ef-a282-0a58a9feac02
DTSTAMP:20250124T002422Z
SUMMARY:Soccer (Girls V) @ Merrillville High School
LOCATION:Merrillville High School
URL;VALUE=URI:https://www.tricreek.k12.in.us/lhs/calendar/7361041/soccer-gi
 rls-v-merrillville-high-school
DTSTART:20250927T163000Z
DTEND:20250927T183000Z
END:VEVENT
END:VCALENDAR
