BEGIN:VCALENDAR
VERSION:2.0
PRODID:SchoolNow
CALSCALE:GREGORIAN
BEGIN:VEVENT
UID:8f08ea28-d9e9-11ef-a2c0-0a58a9feac02
DTSTAMP:20250124T002422Z
SUMMARY:Soccer (Girls V) @ Hanover Central Jr-Sr High School
LOCATION:Hanover Central Jr-Sr High School
URL;VALUE=URI:https://www.tricreek.k12.in.us/lhs/calendar/7361043/soccer-gi
 rls-v-hanover-central-jr-sr-high-school
DTSTART:20250819T233000Z
DTEND:20250820T013000Z
END:VEVENT
END:VCALENDAR
