BEGIN:VCALENDAR
VERSION:2.0
PRODID:SchoolNow
CALSCALE:GREGORIAN
BEGIN:VEVENT
UID:8f08eb04-d9e9-11ef-a563-0a58a9feac02
DTSTAMP:20250124T002422Z
SUMMARY:Soccer (Girls V) @ Highland High School
LOCATION:Highland High School
URL;VALUE=URI:https://www.tricreek.k12.in.us/lhs/calendar/7361044/soccer-gi
 rls-v-highland-high-school
DTSTART:20250916T233000Z
DTEND:20250917T013000Z
END:VEVENT
END:VCALENDAR
