BEGIN:VCALENDAR
VERSION:2.0
PRODID:SchoolNow
CALSCALE:GREGORIAN
BEGIN:VEVENT
UID:8f08ebe0-d9e9-11ef-8056-0a58a9feac02
DTSTAMP:20250124T002422Z
SUMMARY:Soccer (Girls V) @ Bishop Noll Institute School
LOCATION:Bishop Noll Institute School
URL;VALUE=URI:https://www.tricreek.k12.in.us/lhs/calendar/7361045/soccer-gi
 rls-v-bishop-noll-institute-school
DTSTART:20250823T163000Z
DTEND:20250823T183000Z
END:VEVENT
END:VCALENDAR
