BEGIN:VCALENDAR
VERSION:2.0
PRODID:SchoolNow
CALSCALE:GREGORIAN
BEGIN:VEVENT
UID:8f08ecb2-d9e9-11ef-bb39-0a58a9feac02
DTSTAMP:20250124T002422Z
SUMMARY:Soccer (Girls V) @ Kankakee Valley High School
LOCATION:Kankakee Valley High School
URL;VALUE=URI:https://www.tricreek.k12.in.us/lhs/calendar/7361046/soccer-gi
 rls-v-kankakee-valley-high-school
DTSTART:20250910T000000Z
DTEND:20250910T020000Z
END:VEVENT
END:VCALENDAR
