BEGIN:VCALENDAR
VERSION:2.0
PRODID:SchoolNow
CALSCALE:GREGORIAN
BEGIN:VEVENT
UID:8f08ed8e-d9e9-11ef-9ffb-0a58a9feac02
DTSTAMP:20250124T002422Z
SUMMARY:Soccer (Girls V) @ Wheeler High School
LOCATION:Wheeler High School
URL;VALUE=URI:https://www.tricreek.k12.in.us/lhs/calendar/7361047/soccer-gi
 rls-v-wheeler-high-school
DTSTART:20250913T150051Z
DTEND:20250913T170051Z
END:VEVENT
END:VCALENDAR
