BEGIN:VCALENDAR
VERSION:2.0
PRODID:SchoolNow
CALSCALE:GREGORIAN
BEGIN:VEVENT
UID:8f08ee60-d9e9-11ef-ada2-0a58a9feac02
DTSTAMP:20250124T002422Z
SUMMARY:Soccer (Girls V) - Portage High School
LOCATION:Lowell Senior High School
URL;VALUE=URI:https://www.tricreek.k12.in.us/lhs/calendar/7361048/soccer-gi
 rls-v-portage-high-school
DTSTART:20250911T233016Z
DTEND:20250912T013016Z
END:VEVENT
END:VCALENDAR
