BEGIN:VCALENDAR
VERSION:2.0
PRODID:SchoolNow
CALSCALE:GREGORIAN
BEGIN:VEVENT
UID:8f08ef32-d9e9-11ef-9fdf-0a58a9feac02
DTSTAMP:20250124T002422Z
SUMMARY:Soccer (Girls V) @ Andrean
LOCATION:Andrean High School
URL;VALUE=URI:https://www.tricreek.k12.in.us/lhs/calendar/7361049/soccer-gi
 rls-v-andrean
DTSTART:20240924T230000Z
DTEND:20240925T010000Z
END:VEVENT
END:VCALENDAR
