BEGIN:VCALENDAR
VERSION:2.0
PRODID:SchoolNow
CALSCALE:GREGORIAN
BEGIN:VEVENT
UID:8f08f00e-d9e9-11ef-8892-0a58a9feac02
DTSTAMP:20250124T002422Z
SUMMARY:Soccer (Girls V) - Illiana Christian High School
LOCATION:Lowell Senior High School
URL;VALUE=URI:https://www.tricreek.k12.in.us/lhs/calendar/7361050/soccer-gi
 rls-v-illiana-christian-high-school
DTSTART:20250828T230000Z
DTEND:20250829T010000Z
END:VEVENT
END:VCALENDAR
