BEGIN:VCALENDAR
VERSION:2.0
PRODID:SchoolNow
CALSCALE:GREGORIAN
BEGIN:VEVENT
UID:8f08f0ea-d9e9-11ef-8f5c-0a58a9feac02
DTSTAMP:20250124T002422Z
SUMMARY:Basketball (Boys JV) @ Boone Grove High School
LOCATION:Boone Grove High School
URL;VALUE=URI:https://www.tricreek.k12.in.us/lhs/calendar/7361051/basketbal
 l-boys-jv-boone-grove-high-school
DTSTART:20251216T233050Z
DTEND:20251217T013050Z
END:VEVENT
END:VCALENDAR
