BEGIN:VCALENDAR
VERSION:2.0
PRODID:SchoolNow
CALSCALE:GREGORIAN
BEGIN:VEVENT
UID:8f08f1c6-d9e9-11ef-9a7a-0a58a9feac02
DTSTAMP:20250124T002422Z
SUMMARY:Basketball (Boys JV) @ Wheeler High School
LOCATION:Wheeler High School
URL;VALUE=URI:https://www.tricreek.k12.in.us/lhs/calendar/7361052/basketbal
 l-boys-jv-wheeler-high-school
DTSTART:20251202T233000Z
DTEND:20251203T013000Z
END:VEVENT
END:VCALENDAR
