BEGIN:VCALENDAR
VERSION:2.0
PRODID:SchoolNow
CALSCALE:GREGORIAN
BEGIN:VEVENT
UID:8f08f766-d9e9-11ef-895b-0a58a9feac02
DTSTAMP:20250124T002422Z
SUMMARY:Basketball (Boys JV) - Illiana Christian High School
LOCATION:Lowell Senior High School
URL;VALUE=URI:https://www.tricreek.k12.in.us/lhs/calendar/7361053/basketbal
 l-boys-jv-illiana-christian-high-school
DTSTART:20260120T233045Z
DTEND:20260121T013045Z
END:VEVENT
END:VCALENDAR
