BEGIN:VCALENDAR
VERSION:2.0
PRODID:SchoolNow
CALSCALE:GREGORIAN
BEGIN:VEVENT
UID:8f08f914-d9e9-11ef-907b-0a58a9feac02
DTSTAMP:20250124T002422Z
SUMMARY:Basketball (Boys JV) - Hebron
LOCATION:Lowell Senior High School
URL;VALUE=URI:https://www.tricreek.k12.in.us/lhs/calendar/7361054/basketbal
 l-boys-jv-hebron
DTSTART:20241210T233000Z
DTEND:20241211T013000Z
END:VEVENT
END:VCALENDAR
