BEGIN:VCALENDAR
VERSION:2.0
PRODID:SchoolNow
CALSCALE:GREGORIAN
BEGIN:VEVENT
UID:8f08fa0e-d9e9-11ef-a146-0a58a9feac02
DTSTAMP:20250124T002422Z
SUMMARY:Basketball (Boys JV) @ Kouts Middle/High School
LOCATION:Kouts
URL;VALUE=URI:https://www.tricreek.k12.in.us/lhs/calendar/7361055/basketbal
 l-boys-jv-kouts-middle-high-school
DTSTART:20250222T233000Z
DTEND:20250223T013000Z
END:VEVENT
END:VCALENDAR
