BEGIN:VCALENDAR
VERSION:2.0
PRODID:SchoolNow
CALSCALE:GREGORIAN
BEGIN:VEVENT
UID:8f08fbda-d9e9-11ef-b567-0a58a9feac02
DTSTAMP:20250124T002422Z
SUMMARY:Basketball (Boys JV) - Whiting High School
LOCATION:Lowell Senior High School
URL;VALUE=URI:https://www.tricreek.k12.in.us/lhs/calendar/7361057/basketbal
 l-boys-jv-whiting-high-school
DTSTART:20250211T233000Z
DTEND:20250212T013000Z
END:VEVENT
END:VCALENDAR
