BEGIN:VCALENDAR
VERSION:2.0
PRODID:SchoolNow
CALSCALE:GREGORIAN
BEGIN:VEVENT
UID:8f08fcb6-d9e9-11ef-87f6-0a58a9feac02
DTSTAMP:20250124T002422Z
SUMMARY:Basketball (Boys JV) - LaPorte High School
LOCATION:Lowell Senior High School
URL;VALUE=URI:https://www.tricreek.k12.in.us/lhs/calendar/7361058/basketbal
 l-boys-jv-laporte-high-school
DTSTART:20241213T233000Z
DTEND:20241214T013000Z
END:VEVENT
END:VCALENDAR
