BEGIN:VCALENDAR
VERSION:2.0
PRODID:SchoolNow
CALSCALE:GREGORIAN
BEGIN:VEVENT
UID:8f08fdba-d9e9-11ef-a9f6-0a58a9feac02
DTSTAMP:20250124T002422Z
SUMMARY:Basketball (Boys JV) @ Hebron
LOCATION:Hebron
URL;VALUE=URI:https://www.tricreek.k12.in.us/lhs/calendar/7361059/basketbal
 l-boys-jv-hebron
DTSTART:20251209T233000Z
DTEND:20251210T013000Z
END:VEVENT
END:VCALENDAR
