BEGIN:VCALENDAR
VERSION:2.0
PRODID:SchoolNow
CALSCALE:GREGORIAN
BEGIN:VEVENT
UID:8f08fe96-d9e9-11ef-845e-0a58a9feac02
DTSTAMP:20250124T002422Z
SUMMARY:Basketball (Boys JV) @ Morgan Township Middle/High School
LOCATION:Morgan Township Middle/High School
URL;VALUE=URI:https://www.tricreek.k12.in.us/lhs/calendar/7361060/basketbal
 l-boys-jv-morgan-township-middle-high-school
DTSTART:20241126T233000Z
DTEND:20241127T013000Z
END:VEVENT
END:VCALENDAR
