BEGIN:VCALENDAR
VERSION:2.0
PRODID:SchoolNow
CALSCALE:GREGORIAN
BEGIN:VEVENT
UID:8f08ff7c-d9e9-11ef-aa57-0a58a9feac02
DTSTAMP:20250124T002422Z
SUMMARY:Basketball (Boys JV) @ Portage JV Holiday Tournament
LOCATION:Portage JV Holiday Tournament
URL;VALUE=URI:https://www.tricreek.k12.in.us/lhs/calendar/7361061/basketbal
 l-boys-jv-portage-jv-holiday-tournament
DTSTART:20241230T160000Z
DTEND:20241230T180000Z
END:VEVENT
END:VCALENDAR
