BEGIN:VCALENDAR
VERSION:2.0
PRODID:SchoolNow
CALSCALE:GREGORIAN
BEGIN:VEVENT
UID:8f090058-d9e9-11ef-87ce-0a58a9feac02
DTSTAMP:20250124T002422Z
SUMMARY:Basketball (Boys JV) - Boone Grove High School
LOCATION:Lowell Senior High School
URL;VALUE=URI:https://www.tricreek.k12.in.us/lhs/calendar/7361062/basketbal
 l-boys-jv-boone-grove-high-school
DTSTART:20241217T233050Z
DTEND:20241218T013050Z
END:VEVENT
END:VCALENDAR
