BEGIN:VCALENDAR
VERSION:2.0
PRODID:SchoolNow
CALSCALE:GREGORIAN
BEGIN:VEVENT
UID:8f09012a-d9e9-11ef-9946-0a58a9feac02
DTSTAMP:20250124T002422Z
SUMMARY:Basketball (Boys JV) - Andrean
LOCATION:Lowell Senior High School
URL;VALUE=URI:https://www.tricreek.k12.in.us/lhs/calendar/7361063/basketbal
 l-boys-jv-andrean
DTSTART:20250206T233000Z
DTEND:20250207T013000Z
END:VEVENT
END:VCALENDAR
