BEGIN:VCALENDAR
VERSION:2.0
PRODID:SchoolNow
CALSCALE:GREGORIAN
BEGIN:VEVENT
UID:8f090206-d9e9-11ef-8c91-0a58a9feac02
DTSTAMP:20250124T002422Z
SUMMARY:Basketball (Boys JV) - Griffith Senior High School
LOCATION:Lowell Senior High School
URL;VALUE=URI:https://www.tricreek.k12.in.us/lhs/calendar/7361064/basketbal
 l-boys-jv-griffith-senior-high-school
DTSTART:20251205T233008Z
DTEND:20251206T013008Z
END:VEVENT
END:VCALENDAR
