BEGIN:VCALENDAR
VERSION:2.0
PRODID:SchoolNow
CALSCALE:GREGORIAN
BEGIN:VEVENT
UID:8f0902d8-d9e9-11ef-bd32-0a58a9feac02
DTSTAMP:20250124T002422Z
SUMMARY:Basketball (Boys JV) - Merrillville High School
LOCATION:Lowell Senior High School
URL;VALUE=URI:https://www.tricreek.k12.in.us/lhs/calendar/7361065/basketbal
 l-boys-jv-merrillville-high-school
DTSTART:20250114T233000Z
DTEND:20250115T013000Z
END:VEVENT
END:VCALENDAR
