BEGIN:VCALENDAR
VERSION:2.0
PRODID:SchoolNow
CALSCALE:GREGORIAN
BEGIN:VEVENT
UID:8f0903b4-d9e9-11ef-a80f-0a58a9feac02
DTSTAMP:20250124T002422Z
SUMMARY:Basketball (Boys JV) @ Highland High School
LOCATION:Highland High School
URL;VALUE=URI:https://www.tricreek.k12.in.us/lhs/calendar/7361066/basketbal
 l-boys-jv-highland-high-school
DTSTART:20250111T233000Z
DTEND:20250112T013000Z
END:VEVENT
END:VCALENDAR
