BEGIN:VCALENDAR
VERSION:2.0
PRODID:SchoolNow
CALSCALE:GREGORIAN
BEGIN:VEVENT
UID:8f090558-d9e9-11ef-b9ae-0a58a9feac02
DTSTAMP:20250124T002422Z
SUMMARY:Basketball (Boys JV) - Highland High School
LOCATION:Lowell Senior High School
URL;VALUE=URI:https://www.tricreek.k12.in.us/lhs/calendar/7361068/basketbal
 l-boys-jv-highland-high-school
DTSTART:20260110T233000Z
DTEND:20260111T013000Z
END:VEVENT
END:VCALENDAR
