BEGIN:VCALENDAR
VERSION:2.0
PRODID:SchoolNow
CALSCALE:GREGORIAN
BEGIN:VEVENT
UID:8f090706-d9e9-11ef-9845-0a58a9feac02
DTSTAMP:20250124T002422Z
SUMMARY:Basketball (Boys JV) - West Side High School - Gary
LOCATION:Lowell Senior High School
URL;VALUE=URI:https://www.tricreek.k12.in.us/lhs/calendar/7361070/basketbal
 l-boys-jv-west-side-high-school-gary
DTSTART:20260108T233059Z
DTEND:20260109T013059Z
END:VEVENT
END:VCALENDAR
