BEGIN:VCALENDAR
VERSION:2.0
PRODID:SchoolNow
CALSCALE:GREGORIAN
BEGIN:VEVENT
UID:8f0908b4-d9e9-11ef-8ced-0a58a9feac02
DTSTAMP:20250124T002422Z
SUMMARY:CANCELED - Basketball (Boys JV) @ Illiana Christian High School
LOCATION:Illiana Christian High School
URL;VALUE=URI:https://www.tricreek.k12.in.us/lhs/calendar/7361072/canceled-
 basketball-boys-jv-illiana-christian-high-school
DTSTART:20250121T233045Z
DTEND:20250122T013045Z
END:VEVENT
END:VCALENDAR
