BEGIN:VCALENDAR
VERSION:2.0
PRODID:SchoolNow
CALSCALE:GREGORIAN
BEGIN:VEVENT
UID:8f090986-d9e9-11ef-b195-0a58a9feac02
DTSTAMP:20250124T002422Z
SUMMARY:Basketball (Boys JV) @ LaPorte High School
LOCATION:LaPorte High School
URL;VALUE=URI:https://www.tricreek.k12.in.us/lhs/calendar/7361073/basketbal
 l-boys-jv-laporte-high-school
DTSTART:20251212T233000Z
DTEND:20251213T013000Z
END:VEVENT
END:VCALENDAR
