BEGIN:VCALENDAR
VERSION:2.0
PRODID:SchoolNow
CALSCALE:GREGORIAN
BEGIN:VEVENT
UID:8f090a58-d9e9-11ef-a05e-0a58a9feac02
DTSTAMP:20250124T002422Z
SUMMARY:Basketball (Boys JV) @ Hobart High School
LOCATION:Hobart High School
URL;VALUE=URI:https://www.tricreek.k12.in.us/lhs/calendar/7361074/basketbal
 l-boys-jv-hobart-high-school
DTSTART:20241220T233000Z
DTEND:20241221T013000Z
END:VEVENT
END:VCALENDAR
