BEGIN:VCALENDAR
VERSION:2.0
PRODID:SchoolNow
CALSCALE:GREGORIAN
BEGIN:VEVENT
UID:8f090bfc-d9e9-11ef-a11c-0a58a9feac02
DTSTAMP:20250124T002422Z
SUMMARY:Basketball (Boys JV) - Hobart High School
LOCATION:Lowell Senior High School
URL;VALUE=URI:https://www.tricreek.k12.in.us/lhs/calendar/7361076/basketbal
 l-boys-jv-hobart-high-school
DTSTART:20251219T233000Z
DTEND:20251220T013000Z
END:VEVENT
END:VCALENDAR
