BEGIN:VCALENDAR
VERSION:2.0
PRODID:SchoolNow
CALSCALE:GREGORIAN
BEGIN:VEVENT
UID:8f090d00-d9e9-11ef-bc13-0a58a9feac02
DTSTAMP:20250124T002422Z
SUMMARY:Basketball (Boys JV) @ Illiana Christian High School
LOCATION:Illiana Christian High School
URL;VALUE=URI:https://www.tricreek.k12.in.us/lhs/calendar/7361077/basketbal
 l-boys-jv-illiana-christian-high-school
DTSTART:20250122T233027Z
DTEND:20250123T013027Z
END:VEVENT
END:VCALENDAR
