BEGIN:VCALENDAR
VERSION:2.0
PRODID:SchoolNow
CALSCALE:GREGORIAN
BEGIN:VEVENT
UID:8f090ddc-d9e9-11ef-8547-0a58a9feac02
DTSTAMP:20250124T002422Z
SUMMARY:Basketball (Boys JV) - Kankakee Valley High School
LOCATION:Lowell Senior High School
URL;VALUE=URI:https://www.tricreek.k12.in.us/lhs/calendar/7361078/basketbal
 l-boys-jv-kankakee-valley-high-school
DTSTART:20250125T233000Z
DTEND:20250126T013000Z
END:VEVENT
END:VCALENDAR
