BEGIN:VCALENDAR
VERSION:2.0
PRODID:SchoolNow
CALSCALE:GREGORIAN
BEGIN:VEVENT
UID:8f090fee-d9e9-11ef-81af-0a58a9feac02
DTSTAMP:20250124T002422Z
SUMMARY:Basketball (Boys JV) - Valparaiso High School
LOCATION:Lowell Senior High School
URL;VALUE=URI:https://www.tricreek.k12.in.us/lhs/calendar/7361079/basketbal
 l-boys-jv-valparaiso-high-school
DTSTART:20250128T233024Z
DTEND:20250129T013024Z
END:VEVENT
END:VCALENDAR
