BEGIN:VCALENDAR
VERSION:2.0
PRODID:SchoolNow
CALSCALE:GREGORIAN
BEGIN:VEVENT
UID:8f0911e2-d9e9-11ef-a87f-0a58a9feac02
DTSTAMP:20250124T002422Z
SUMMARY:Basketball (Boys JV) @ West Side High School - Gary
LOCATION:West Side High School - Gary
URL;VALUE=URI:https://www.tricreek.k12.in.us/lhs/calendar/7361081/basketbal
 l-boys-jv-west-side-high-school-gary
DTSTART:20250109T233059Z
DTEND:20250110T013059Z
END:VEVENT
END:VCALENDAR
