BEGIN:VCALENDAR
VERSION:2.0
PRODID:SchoolNow
CALSCALE:GREGORIAN
BEGIN:VEVENT
UID:8f0912b4-d9e9-11ef-9dc3-0a58a9feac02
DTSTAMP:20250124T002422Z
SUMMARY:Basketball (Boys JV) @ Merrillville High School
LOCATION:Merrillville High School
URL;VALUE=URI:https://www.tricreek.k12.in.us/lhs/calendar/7361082/basketbal
 l-boys-jv-merrillville-high-school
DTSTART:20260113T233000Z
DTEND:20260114T013000Z
END:VEVENT
END:VCALENDAR
