BEGIN:VCALENDAR
VERSION:2.0
PRODID:SchoolNow
CALSCALE:GREGORIAN
BEGIN:VEVENT
UID:8f09191c-d9e9-11ef-bcd0-0a58a9feac02
DTSTAMP:20250124T002422Z
SUMMARY:Basketball (Boys JV) @ Munster High School
LOCATION:Munster High School
URL;VALUE=URI:https://www.tricreek.k12.in.us/lhs/calendar/7361083/basketbal
 l-boys-jv-munster-high-school
DTSTART:20250131T233000Z
DTEND:20250201T013000Z
END:VEVENT
END:VCALENDAR
