BEGIN:VCALENDAR
VERSION:2.0
PRODID:SchoolNow
CALSCALE:GREGORIAN
BEGIN:VEVENT
UID:8f091c32-d9e9-11ef-ad41-0a58a9feac02
DTSTAMP:20250124T002422Z
SUMMARY:Volleyball (Girls F) @ Kankakee Valley High School
LOCATION:Kankakee Valley High School
URL;VALUE=URI:https://www.tricreek.k12.in.us/lhs/calendar/7361086/volleybal
 l-girls-f-kankakee-valley-high-school
DTSTART:20250902T223000Z
DTEND:20250903T003000Z
END:VEVENT
END:VCALENDAR
