BEGIN:VCALENDAR
VERSION:2.0
PRODID:SchoolNow
CALSCALE:GREGORIAN
BEGIN:VEVENT
UID:8f7bf928-d9e9-11ef-9d1f-0a58a9feac02
DTSTAMP:20250124T002422Z
SUMMARY:Volleyball (Girls F) @ Munster High School
LOCATION:Munster High School
URL;VALUE=URI:https://www.tricreek.k12.in.us/lhs/calendar/7361087/volleybal
 l-girls-f-munster-high-school
DTSTART:20240926T223000Z
DTEND:20240926T233000Z
END:VEVENT
END:VCALENDAR
