BEGIN:VCALENDAR
VERSION:2.0
PRODID:SchoolNow
CALSCALE:GREGORIAN
BEGIN:VEVENT
UID:8f7c001c-d9e9-11ef-aa8f-0a58a9feac02
DTSTAMP:20250124T002422Z
SUMMARY:Volleyball (Girls F) - Andrean High School
LOCATION:Lowell Senior High School
URL;VALUE=URI:https://www.tricreek.k12.in.us/lhs/calendar/7361088/volleybal
 l-girls-f-andrean-high-school
DTSTART:20241003T223000Z
DTEND:20241004T003000Z
END:VEVENT
END:VCALENDAR
