BEGIN:VCALENDAR
VERSION:2.0
PRODID:SchoolNow
CALSCALE:GREGORIAN
BEGIN:VEVENT
UID:8f7c01a2-d9e9-11ef-95d5-0a58a9feac02
DTSTAMP:20250124T002422Z
SUMMARY:Volleyball (Girls F) - Hanover Central  High School
LOCATION:Lowell Senior High School
URL;VALUE=URI:https://www.tricreek.k12.in.us/lhs/calendar/7361089/volleybal
 l-girls-f-hanover-central-high-school
DTSTART:20250911T223000Z
DTEND:20250912T003000Z
END:VEVENT
END:VCALENDAR
