BEGIN:VCALENDAR
VERSION:2.0
PRODID:SchoolNow
CALSCALE:GREGORIAN
BEGIN:VEVENT
UID:8f7c02ce-d9e9-11ef-9c43-0a58a9feac02
DTSTAMP:20250124T002422Z
SUMMARY:Volleyball (Girls F) @ Highland High School
LOCATION:Highland High School
URL;VALUE=URI:https://www.tricreek.k12.in.us/lhs/calendar/7361090/volleybal
 l-girls-f-highland-high-school
DTSTART:20250923T223000Z
DTEND:20250924T003000Z
END:VEVENT
END:VCALENDAR
