BEGIN:VCALENDAR
VERSION:2.0
PRODID:SchoolNow
CALSCALE:GREGORIAN
BEGIN:VEVENT
UID:8f7c03f0-d9e9-11ef-ae64-0a58a9feac02
DTSTAMP:20250124T002422Z
SUMMARY:Volleyball (Girls F) @ Chesterton High School
LOCATION:Chesterton High School
URL;VALUE=URI:https://www.tricreek.k12.in.us/lhs/calendar/7361091/volleybal
 l-girls-f-chesterton-high-school
DTSTART:20250821T220000Z
DTEND:20250822T000000Z
END:VEVENT
END:VCALENDAR
