BEGIN:VCALENDAR
VERSION:2.0
PRODID:SchoolNow
CALSCALE:GREGORIAN
BEGIN:VEVENT
UID:8f7c0706-d9e9-11ef-afa0-0a58a9feac02
DTSTAMP:20250124T002422Z
SUMMARY:Volleyball (Girls F) @ Griffith Senior High School
LOCATION:Griffith Senior High School
URL;VALUE=URI:https://www.tricreek.k12.in.us/lhs/calendar/7361094/volleybal
 l-girls-f-griffith-senior-high-school
DTSTART:20250917T223000Z
DTEND:20250918T003000Z
END:VEVENT
END:VCALENDAR
