BEGIN:VCALENDAR
VERSION:2.0
PRODID:SchoolNow
CALSCALE:GREGORIAN
BEGIN:VEVENT
UID:8f7c0f1c-d9e9-11ef-88c1-0a58a9feac02
DTSTAMP:20250124T002422Z
SUMMARY:CANCELED - Volleyball (Girls F) - North Newton Jr-Sr High School
LOCATION:Lowell Senior High School
URL;VALUE=URI:https://www.tricreek.k12.in.us/lhs/calendar/7361095/canceled-
 volleyball-girls-f-north-newton-jr-sr-high-school
DTSTART:20241007T223000Z
DTEND:20241008T003000Z
END:VEVENT
END:VCALENDAR
