BEGIN:VCALENDAR
VERSION:2.0
PRODID:SchoolNow
CALSCALE:GREGORIAN
BEGIN:VEVENT
UID:8f7c1066-d9e9-11ef-8b77-0a58a9feac02
DTSTAMP:20250124T002422Z
SUMMARY:Volleyball (Girls F) @ North Newton Jr-Sr High School
LOCATION:North Newton Jr-Sr High School
URL;VALUE=URI:https://www.tricreek.k12.in.us/lhs/calendar/7361096/volleybal
 l-girls-f-north-newton-jr-sr-high-school
DTSTART:20251006T223000Z
DTEND:20251007T003000Z
END:VEVENT
END:VCALENDAR
