BEGIN:VCALENDAR
VERSION:2.0
PRODID:SchoolNow
CALSCALE:GREGORIAN
BEGIN:VEVENT
UID:8f7c126e-d9e9-11ef-bf3d-0a58a9feac02
DTSTAMP:20250124T002422Z
SUMMARY:Volleyball (Girls F) - Munster High School
LOCATION:Lowell Senior High School
URL;VALUE=URI:https://www.tricreek.k12.in.us/lhs/calendar/7361097/volleybal
 l-girls-f-munster-high-school
DTSTART:20250925T223000Z
DTEND:20250926T003000Z
END:VEVENT
END:VCALENDAR
